BEGIN:VCALENDAR
VERSION:2.0
PRODID:-//UFCW Local 342 - ECPv6.15.20//NONSGML v1.0//EN
CALSCALE:GREGORIAN
METHOD:PUBLISH
X-WR-CALNAME:UFCW Local 342
X-ORIGINAL-URL:https://local342update.com
X-WR-CALDESC:Events for UFCW Local 342
REFRESH-INTERVAL;VALUE=DURATION:PT1H
X-Robots-Tag:noindex
X-PUBLISHED-TTL:PT1H
BEGIN:VTIMEZONE
TZID:America/New_York
BEGIN:DAYLIGHT
TZOFFSETFROM:-0500
TZOFFSETTO:-0400
TZNAME:EDT
DTSTART:20160313T070000
END:DAYLIGHT
BEGIN:STANDARD
TZOFFSETFROM:-0400
TZOFFSETTO:-0500
TZNAME:EST
DTSTART:20161106T060000
END:STANDARD
BEGIN:DAYLIGHT
TZOFFSETFROM:-0500
TZOFFSETTO:-0400
TZNAME:EDT
DTSTART:20170312T070000
END:DAYLIGHT
BEGIN:STANDARD
TZOFFSETFROM:-0400
TZOFFSETTO:-0500
TZNAME:EST
DTSTART:20171105T060000
END:STANDARD
BEGIN:DAYLIGHT
TZOFFSETFROM:-0500
TZOFFSETTO:-0400
TZNAME:EDT
DTSTART:20180311T070000
END:DAYLIGHT
BEGIN:STANDARD
TZOFFSETFROM:-0400
TZOFFSETTO:-0500
TZNAME:EST
DTSTART:20181104T060000
END:STANDARD
END:VTIMEZONE
BEGIN:VEVENT
DTSTART;TZID=America/New_York:20171008T100000
DTEND;TZID=America/New_York:20171008T140000
DTSTAMP:20260425T141632
CREATED:20170818T152157Z
LAST-MODIFIED:20170818T152157Z
UID:7994-1507456800-1507471200@local342update.com
SUMMARY:Local 342 Sisters Fundraising for Making Strides Against Breast Cancer
DESCRIPTION:Some call them the Golden Girls\, the Fab Four or the Pink Ladies. We call them Sisters and fundraising all-stars Jeannie\, Mary\, Cathy and Shirley!  \nNearly every Saturday since the start of this summer\, your dedicated sisters have set up their fundraising table in the front of a different union supermarket on Long Island because these ladies are on a mission to raise more funds than ever toward the Annual Local 342 Fundraiser for the American Cancer Society and Making Strides Against Breast Cancer.  \nThe Pink Ladies will be at different local supermarkets on Saturdays from 10am-2pm all the way through the official Making Strides Walk on October 15\, 2017 when Local 342 will all meet up to walk together!  \nIf you are nearby or have spare time on your break this Saturday\, stop by and say hi and consider a donation!  Mary\, Cathy\, Jeannie and Shirley would love the support of their fellow union members. And it’s ALL for an important cause.  \nSince becoming a Sponsor in 2013\, Local 342 has donated over $200\,000 to the American Cancer Society for Making Strides. We are a proud site sponsor for the Making Strides Walks at Jones Beach\, LI and Midland Beach\, SI this year\, as we have been since 2013.  
URL:https://local342update.com/event/local-342-sisters-fundraising-making-strides-breast-cancer-8/
LOCATION:Wantagh King Kullen\, 1340 Wantagh Avenue\, Wantagh\, NY\, 11793\, United States
ATTACH;FMTTYPE=image/jpeg:https://local342update.com/wp-content/uploads/2017/08/pink-ribbon-e1503068762794.jpg
END:VEVENT
BEGIN:VEVENT
DTSTART;TZID=America/New_York:20171008T123000
DTEND;TZID=America/New_York:20171008T163000
DTSTAMP:20260425T141632
CREATED:20170901T153045Z
LAST-MODIFIED:20170901T153045Z
UID:8286-1507465800-1507480200@local342update.com
SUMMARY:Football Fundraiser
DESCRIPTION:Join Local 342 Members for FUN and FUNDraising for our annual campaign to support the American Cancer Society’s Making Strides Against Breast Cancer. This one is FOOTBALL!  \n\n12:30-4:30pm \n$40 per person includes 4 hour open bar and game bites\nRaffle baskets and 50/50 \nJets vs Browns AND Giants vs Chargers\n\nFor questions\, contact the Local 342 Activities Department at 855-342-8499 or email activities@ufcw342.org.  \nA portion of proceeds will go to the American Cancer Society! 
URL:https://local342update.com/event/football-fundraiser/
LOCATION:Flanagan’s Tavern\, 3932 Amboy Road\, Staten Island\, NY\, 10308\, United States
ATTACH;FMTTYPE=image/jpeg:https://local342update.com/wp-content/uploads/2017/08/logo-pink_no-pantone-e1502725550754.jpeg
ORGANIZER;CN="Local 342 Activities":MAILTO:activities@ufcw342.org
END:VEVENT
END:VCALENDAR