BEGIN:VCALENDAR
VERSION:2.0
PRODID:-//UFCW Local 342 - ECPv6.15.20//NONSGML v1.0//EN
CALSCALE:GREGORIAN
METHOD:PUBLISH
X-ORIGINAL-URL:https://local342update.com
X-WR-CALDESC:Events for UFCW Local 342
REFRESH-INTERVAL;VALUE=DURATION:PT1H
X-Robots-Tag:noindex
X-PUBLISHED-TTL:PT1H
BEGIN:VTIMEZONE
TZID:America/New_York
BEGIN:DAYLIGHT
TZOFFSETFROM:-0500
TZOFFSETTO:-0400
TZNAME:EDT
DTSTART:20160313T070000
END:DAYLIGHT
BEGIN:STANDARD
TZOFFSETFROM:-0400
TZOFFSETTO:-0500
TZNAME:EST
DTSTART:20161106T060000
END:STANDARD
BEGIN:DAYLIGHT
TZOFFSETFROM:-0500
TZOFFSETTO:-0400
TZNAME:EDT
DTSTART:20170312T070000
END:DAYLIGHT
BEGIN:STANDARD
TZOFFSETFROM:-0400
TZOFFSETTO:-0500
TZNAME:EST
DTSTART:20171105T060000
END:STANDARD
BEGIN:DAYLIGHT
TZOFFSETFROM:-0500
TZOFFSETTO:-0400
TZNAME:EDT
DTSTART:20180311T070000
END:DAYLIGHT
BEGIN:STANDARD
TZOFFSETFROM:-0400
TZOFFSETTO:-0500
TZNAME:EST
DTSTART:20181104T060000
END:STANDARD
BEGIN:DAYLIGHT
TZOFFSETFROM:-0500
TZOFFSETTO:-0400
TZNAME:EDT
DTSTART:20190310T070000
END:DAYLIGHT
BEGIN:STANDARD
TZOFFSETFROM:-0400
TZOFFSETTO:-0500
TZNAME:EST
DTSTART:20191103T060000
END:STANDARD
END:VTIMEZONE
BEGIN:VEVENT
DTSTART;TZID=America/New_York:20181123T080000
DTEND;TZID=America/New_York:20181123T170000
DTSTAMP:20260421T212808
CREATED:20180919T153215Z
LAST-MODIFIED:20180919T153215Z
UID:10145-1542960000-1542992400@local342update.com
SUMMARY:Office Closed
DESCRIPTION:
URL:https://local342update.com/event/office-closed-2/
LOCATION:NY\, United States
END:VEVENT
BEGIN:VEVENT
DTSTART;TZID=America/New_York:20181122T080000
DTEND;TZID=America/New_York:20181122T170000
DTSTAMP:20260421T212808
CREATED:20180919T153015Z
LAST-MODIFIED:20180919T153825Z
UID:10140-1542873600-1542906000@local342update.com
SUMMARY:Happy Thanksgiving! All offices closed in observance
DESCRIPTION:Wishing you and your family a Happy Thanksgiving! \nThe 92nd Annual Macy’s Thanksgiving Day Parade starts at 9:00am! \n \n  \n  \n 
URL:https://local342update.com/event/offices-closed-in-observance-of-thanksgiving/
LOCATION:NY\, United States
END:VEVENT
BEGIN:VEVENT
DTSTART;TZID=America/New_York:20181121T080000
DTEND;TZID=America/New_York:20181121T170000
DTSTAMP:20260421T212808
CREATED:20180919T153143Z
LAST-MODIFIED:20180919T153143Z
UID:10143-1542787200-1542819600@local342update.com
SUMMARY:Office Closed
DESCRIPTION:
URL:https://local342update.com/event/office-closed/
LOCATION:NY\, United States
END:VEVENT
BEGIN:VEVENT
DTSTART;TZID=America/New_York:20181117T140000
DTEND;TZID=America/New_York:20181117T183000
DTSTAMP:20260421T212808
CREATED:20180919T150651Z
LAST-MODIFIED:20181024T190437Z
UID:10137-1542463200-1542479400@local342update.com
SUMMARY:Thanksgiving Volunteering @ Mariner's Temple Baptist Church
DESCRIPTION:Call the Activities Department @ 855-342-8499 to sign up ! \nJoin us as we cook\, setup & serve meals (2pm-5pm)  & pack and handout Thanksgiving meal bags (4pm-6:30pm) to those in need! \nGive Back & Give Thanks! \n  \n 
URL:https://local342update.com/event/thanksgiving-volunteering-mariners-temple-baptist-church/
LOCATION:Mariner’s Temple Baptist Church\, 3 Henry Street\, New York\, NY\, 10038\, United States
END:VEVENT
BEGIN:VEVENT
DTSTART;TZID=America/New_York:20181113T090000
DTEND;TZID=America/New_York:20181113T163000
DTSTAMP:20260421T212808
CREATED:20180919T151701Z
LAST-MODIFIED:20181024T192048Z
UID:10138-1542099600-1542126600@local342update.com
SUMMARY:Deadline for Thanksgiving food donations!
DESCRIPTION:Please drop any Thanksgiving Food Drive Donations to an area office by you  \n \nStaten Island: 27 Brienna Court 10309 \nMineola: 166 E. Jericho Turnpike 11501  \nBohemia: 4561 Sunrise Highway 11716 \nPlease note\, if you are donating turkeys please call the activities dept. in advance so storage can be arranged! \nThank you in advance for your generous donations! \n \ndon’t forget! it’s not too late to sign up and volunteer with us ! give us a call @ 855-342-8499
URL:https://local342update.com/event/deadline-for-thanksgiving-food-donations/
LOCATION:NY\, United States
END:VEVENT
BEGIN:VEVENT
DTSTART;TZID=America/New_York:20181112T080000
DTEND;TZID=America/New_York:20181112T170000
DTSTAMP:20260421T212808
CREATED:20180919T145725Z
LAST-MODIFIED:20180919T191643Z
UID:10134-1542009600-1542042000@local342update.com
SUMMARY:Office Closed in Observance of Veteran's Day
DESCRIPTION:Local 342 would like to thank all those who have served! \nWe Salute our Veterans!
URL:https://local342update.com/event/office-closed-in-observance-of-veterans-day-thank-you-to-all-veterans-for-your-service/
LOCATION:NY\, United States
END:VEVENT
BEGIN:VEVENT
DTSTART;TZID=America/New_York:20181031T080000
DTEND;TZID=America/New_York:20181031T170000
DTSTAMP:20260421T212808
CREATED:20180919T181251Z
LAST-MODIFIED:20180919T185055Z
UID:10150-1540972800-1541005200@local342update.com
SUMMARY:Happy Halloween !
DESCRIPTION:Check out these trick or treat safety tips before heading out with the kids \nhttps://www.safekids.org/tip/halloween-safety-tips \n 
URL:https://local342update.com/event/happy-halloween/
LOCATION:NY\, United States
END:VEVENT
BEGIN:VEVENT
DTSTART;TZID=America/New_York:20181022T180000
DTEND;TZID=America/New_York:20181022T200000
DTSTAMP:20260421T212808
CREATED:20181013T201918Z
LAST-MODIFIED:20181013T201918Z
UID:10261-1540231200-1540238400@local342update.com
SUMMARY:Stop & Shop Membership Meeting
DESCRIPTION:Local 342 Stop & Shop Contract Update Meeting @ 6:00pm. \nLocation listed below.  \nMelville Marriott \n1350 Walt Whitman Road \nMelville\, NY 11747 \nWe encourage ALL Local 342 Stop & Shop members to attend. \n 
URL:https://local342update.com/event/stop-shop-membership-meeting/
LOCATION:Melville Marriott\, 1350 Walt Whitman Road\, Melville\, NY\, 11747\, United States
END:VEVENT
BEGIN:VEVENT
DTSTART;TZID=America/New_York:20181021T173000
DTEND;TZID=America/New_York:20181021T233000
DTSTAMP:20260421T212808
CREATED:20180924T153124Z
LAST-MODIFIED:20181001T182606Z
UID:10197-1540143000-1540164600@local342update.com
SUMMARY:Six Flags Great Adventure Fright Fest Discount for Local 342 Members
DESCRIPTION:LOCAL 342 MEMBER DISCOUNT EXCLUSIVE! \nOne Day admission to Six Flags Great Adventure. Visit sixflags.com for park operating schedule. Kids 2 & under FREE! Fright Fest ends on 10/31/2018 \nOne Day Admission ticket valid for Fright Fest on Friday Nights\, Saturdays and Sundays from 9/28/18 – 10/28/18 and Monday-Wednesday 10/29-10/31 – 5:30-11 pm. Haunted Mazes are additional and can be purchased at the park on the day of your visit. Fright Fest is not recommended for children under 13 after 6 pm. Park opens at 5:30 pm on Fridays. \nCLICK THE LINK BELOW TO GET YOUR SAVINGS! \n \nhttps://www.sixflags.com/greatadventure?promo_code=SFGA76
URL:https://local342update.com/event/six-flags-great-adventure-fright-fest-discount-for-local-342-members-2018-10-21/
LOCATION:six flags great adventure\, Jackson\, NJ\, United States
END:VEVENT
BEGIN:VEVENT
DTSTART;TZID=America/New_York:20181021T080000
DTEND;TZID=America/New_York:20181021T120000
DTSTAMP:20260421T212808
CREATED:20180912T191307Z
LAST-MODIFIED:20180919T150745Z
UID:10115-1540108800-1540123200@local342update.com
SUMMARY:Making Strides Against Breast Cancer - Staten Island
DESCRIPTION:Since 2013\, Local 342 has been a proud sponsor of the American Cancer Society Making Strides Against Breast Cancer. Join us again on October 21\, 2018 with Local 342 members\, staff and thousands of other supporters that day. \nAll Local 342 Members\, their family and friends are welcome to walk with us! \nDONATE to the Local 342 Making Strides Staten Island Team: http://main.acsevents.org/site/TR?team_id=2373452&pg=team&fr_id=89614&s_locale=en_US&et=5hetiDzCVfSNiIFLMcr3Qw&s_tafId=2134805 \n 
URL:https://local342update.com/event/making-strides-against-breast-cancer-staten-island/
LOCATION:Fr. Capodanno Blvd\, Seaview ave at Fr. Capodanno Blvd\, Staten Island\, NY\, 10305\, United States
END:VEVENT
BEGIN:VEVENT
DTSTART;TZID=America/New_York:20181021T070000
DTEND;TZID=America/New_York:20181021T120000
DTSTAMP:20260421T212808
CREATED:20180912T190223Z
LAST-MODIFIED:20180919T150404Z
UID:10114-1540105200-1540123200@local342update.com
SUMMARY:Making Strides Against Breast Cancer - Long Island
DESCRIPTION:Since 2013\, Local 342 has been a proud sponsor of the American Cancer Society Making Strides Against Breast Cancer. Join us again on October 21\, 2018 with Local 342 members\, staff and thousands of other supporters that day. \nAll Local 342 Members\, their family and friends are welcome to walk with us! \nDONATE to the Local 342 Making Strides Staten Island Team: http://main.acsevents.org/site/TR?team_id=2373452&pg=team&fr_id=89614&s_locale=en_US&et=5hetiDzCVfSNiIFLMcr3Qw&s_tafId=2134805 \n  \n  \n                                                         
URL:https://local342update.com/event/making-strides-against-breast-cancer/
LOCATION:Jones Beach\, 1 Ocean Parkway\, Wantagh\, NY\, 11793\, United States
END:VEVENT
BEGIN:VEVENT
DTSTART;TZID=America/New_York:20181012T173000
DTEND;TZID=America/New_York:20181012T233000
DTSTAMP:20260421T212808
CREATED:20180924T153124Z
LAST-MODIFIED:20181001T181307Z
UID:10194-1539365400-1539387000@local342update.com
SUMMARY:Six Flags Great Adventure Fright Fest Discount for Local 342 Members
DESCRIPTION:LOCAL 342 MEMBER DISCOUNT EXCLUSIVE! \nOne Day admission to Six Flags Great Adventure. Visit sixflags.com for park operating schedule. Kids 2 & under FREE! Fright Fest ends on 10/31/2018 \nOne Day Admission ticket valid for Fright Fest on Friday Nights\, Saturdays and Sundays from 9/28/18 – 10/28/18 and Monday-Wednesday 10/29-10/31 – 5:30-11 pm. Haunted Mazes are additional and can be purchased at the park on the day of your visit. Fright Fest is not recommended for children under 13 after 6 pm. Park opens at 5:30 pm on Fridays. \nCLICK THE LINK BELOW TO GET YOUR SAVINGS! \n \nhttps://www.sixflags.com/greatadventure?promo_code=SFGA76
URL:https://local342update.com/event/six-flags-great-adventure-fright-fest-discount-for-local-342-members-2018-10-14/
LOCATION:six flags great adventure\, Jackson\, NJ\, United States
END:VEVENT
BEGIN:VEVENT
DTSTART;TZID=America/New_York:20181011T183000
DTEND;TZID=America/New_York:20181011T220000
DTSTAMP:20260421T212808
CREATED:20180919T155031Z
LAST-MODIFIED:20180919T190222Z
UID:10147-1539282600-1539295200@local342update.com
SUMMARY:Comedy Club Fundraiser for Making Strides Against Breast Cancer
DESCRIPTION:Call the Activities dept. for ticket info @ 855-342-8499 \n$15.00 donation  \n18 & Over \nDoors open @ 6:30pm \nShowtime @ 8:00pm \nGoverner’s Comedy Club
URL:https://local342update.com/event/comedy-club-fundraiser-for-making-strides-against-breast-cancer/
LOCATION:Governor’s Comedy Club\, 90 Division Ave\, Levittown\, NY\, 11756\, United States
END:VEVENT
BEGIN:VEVENT
DTSTART;VALUE=DATE:20181008
DTEND;VALUE=DATE:20181009
DTSTAMP:20260421T212808
CREATED:20180919T145358Z
LAST-MODIFIED:20180919T145358Z
UID:10132-1538956800-1539043199@local342update.com
SUMMARY:Office Closed in Observance of Columbus Day
DESCRIPTION:
URL:https://local342update.com/event/office-closed-in-observance-of-columbus-day/
LOCATION:NY\, United States
END:VEVENT
BEGIN:VEVENT
DTSTART;TZID=America/New_York:20181007T173000
DTEND;TZID=America/New_York:20181007T233000
DTSTAMP:20260421T212808
CREATED:20180924T153124Z
LAST-MODIFIED:20181001T181607Z
UID:10191-1538933400-1538955000@local342update.com
SUMMARY:Six Flags Great Adventure Fright Fest Discount for Local 342 Members
DESCRIPTION:LOCAL 342 MEMBER DISCOUNT EXCLUSIVE! \nOne Day admission to Six Flags Great Adventure. Visit sixflags.com for park operating schedule. Kids 2 & under FREE! Fright Fest ends on 10/31/2018 \nOne Day Admission ticket valid for Fright Fest on Friday Nights\, Saturdays and Sundays from 9/28/18 – 10/28/18 and Monday-Wednesday 10/29-10/31 – 5:30-11 pm. Haunted Mazes are additional and can be purchased at the park on the day of your visit. Fright Fest is not recommended for children under 13 after 6 pm. Park opens at 5:30 pm on Fridays. \nCLICK THE LINK BELOW TO GET YOUR SAVINGS! \n \nhttps://www.sixflags.com/greatadventure?promo_code=SFGA76
URL:https://local342update.com/event/six-flags-great-adventure-fright-fest-discount-for-local-342-members-2018-10-07/
LOCATION:six flags great adventure\, Jackson\, NJ\, United States
END:VEVENT
BEGIN:VEVENT
DTSTART;TZID=America/New_York:20181005T180000
DTEND;TZID=America/New_York:20181008T233000
DTSTAMP:20260421T212808
CREATED:20180924T151641Z
LAST-MODIFIED:20180924T151641Z
UID:10179-1538762400-1539041400@local342update.com
SUMMARY:Columbus Day Weekend Six Flags Fright Fest Savings Discount!
DESCRIPTION:Enjoy an additional discount on top of your member exclusive discount to the Six Flags Great Adventure Fright Fest for Columbus Day Weekend ONLY !  \nAttached is a flyer regarding our Columbus Day Weekend special with tickets at ONLY $35.99 + tax.  The main gate price is $79.99 + tax so that’s a HUGE savings of over $44 off. \n https://www.sixflags.com/greatadventure?promo_code=SFGA76 \n 
URL:https://local342update.com/event/columbus-day-weekend-six-flags-fright-fest-savings-discount/
LOCATION:six flags great adventure\, Jackson\, NJ\, United States
END:VEVENT
BEGIN:VEVENT
DTSTART;TZID=America/New_York:20181001T090000
DTEND;TZID=America/New_York:20181001T193000
DTSTAMP:20260421T212808
CREATED:20180919T190922Z
LAST-MODIFIED:20180924T142936Z
UID:10164-1538384400-1538422200@local342update.com
SUMMARY:Member Monday! All offices open until 7:30 pm
DESCRIPTION:Member Monday @ the Union Hall \n \nCome down to your local union hall to talk with your union rep & meet fellow members! \nOffice Locations: \nStaten Island: 27 Brienna Court 10309 \nMineola: 166 E. Jericho Turnpike 11501 \nBohemia: 4561 Sunrise Highway 11716
URL:https://local342update.com/event/member-monday-all-offices-open-until-730-pm-2018-10-01/
LOCATION:NY\, United States
END:VEVENT
BEGIN:VEVENT
DTSTART;VALUE=DATE:20181001
DTEND;VALUE=DATE:20181002
DTSTAMP:20260421T212808
CREATED:20181001T142253Z
LAST-MODIFIED:20181001T142253Z
UID:10216-1538352000-1538438399@local342update.com
SUMMARY:Breast Cancer Awareness Month
DESCRIPTION:Local 342 is a Flagship Sponsor for both the Staten Island (Midland Beach) & Long Island (Jones Beach) Making Strides Against Breast Cancer Walk.  \nWe look forward to seeing all of our members under the sponsor tent Sunday October 21st at either location.   \nCall the Local 342 Activities Dept. to get involved with Strides 855-342-8499
URL:https://local342update.com/event/breast-cancer-awareness-month/
LOCATION:NY\, United States
END:VEVENT
BEGIN:VEVENT
DTSTART;TZID=America/New_York:20180930T173000
DTEND;TZID=America/New_York:20180930T233000
DTSTAMP:20260421T212808
CREATED:20180924T153124Z
LAST-MODIFIED:20181001T181735Z
UID:10188-1538328600-1538350200@local342update.com
SUMMARY:Six Flags Great Adventure Fright Fest Discount for Local 342 Members
DESCRIPTION:LOCAL 342 MEMBER DISCOUNT EXCLUSIVE! \nOne Day admission to Six Flags Great Adventure. Visit sixflags.com for park operating schedule. Kids 2 & under FREE! Fright Fest ends on 10/31/2018 \nOne Day Admission ticket valid for Fright Fest on Friday Nights\, Saturdays and Sundays from 9/28/18 – 10/28/18 and Monday-Wednesday 10/29-10/31 – 5:30-11 pm. Haunted Mazes are additional and can be purchased at the park on the day of your visit. Fright Fest is not recommended for children under 13 after 6 pm. Park opens at 5:30 pm on Fridays. \nCLICK THE LINK BELOW TO GET YOUR SAVINGS! \n \nhttps://www.sixflags.com/greatadventure?promo_code=SFGA76
URL:https://local342update.com/event/six-flags-great-adventure-fright-fest-discount-for-local-342-members-2018-09-30/
LOCATION:six flags great adventure\, Jackson\, NJ\, United States
END:VEVENT
BEGIN:VEVENT
DTSTART;TZID=America/New_York:20180928T173000
DTEND;TZID=America/New_York:20180930T233000
DTSTAMP:20260421T212808
CREATED:20180924T153124Z
LAST-MODIFIED:20180924T153124Z
UID:10185-1538155800-1538350200@local342update.com
SUMMARY:Six Flags Great Adventure Fright Fest Discount for Local 342 Members
DESCRIPTION:LOCAL 342 MEMBER DISCOUNT EXCLUSIVE! \nOne Day admission to Six Flags Great Adventure. Visit sixflags.com for park operating schedule. Kids 2 & under FREE! Fright Fest ends on 10/31/2018 \nOne Day Admission ticket valid for Fright Fest on Friday Nights\, Saturdays and Sundays from 9/28/18 – 10/28/18 and Monday-Wednesday 10/29-10/31 – 5:30-11 pm. Haunted Mazes are additional and can be purchased at the park on the day of your visit. Fright Fest is not recommended for children under 13 after 6 pm. Park opens at 5:30 pm on Fridays. \nCLICK THE LINK BELOW TO GET YOUR SAVINGS! \n \nhttps://www.sixflags.com/greatadventure?promo_code=SFGA76
URL:https://local342update.com/event/six-flags-great-adventure-fright-fest-discount-for-local-342-members/
LOCATION:six flags great adventure\, Jackson\, NJ\, United States
END:VEVENT
BEGIN:VEVENT
DTSTART;TZID=America/New_York:20180925T080000
DTEND;TZID=America/New_York:20180925T170000
DTSTAMP:20260421T212808
CREATED:20180925T181558Z
LAST-MODIFIED:20180925T181913Z
UID:10208-1537862400-1537894800@local342update.com
SUMMARY:Happy National Lobster Day!
DESCRIPTION:Today is National Lobster Day!  \nBe sure to stop into a local 342 seafood dept. & grab dinner to celebrate! \ncheckout some tasty lobster recipes by clicking the link below  \nhttps://www.bonappetit.com/recipes/slideshow/lobster-recipes \n 
URL:https://local342update.com/event/happy-national-lobster-day/
LOCATION:NY\, United States
END:VEVENT
BEGIN:VEVENT
DTSTART;TZID=America/New_York:20180925T080000
DTEND;TZID=America/New_York:20180925T170000
DTSTAMP:20260421T212808
CREATED:20180925T135126Z
LAST-MODIFIED:20180925T135126Z
UID:10204-1537862400-1537894800@local342update.com
SUMMARY:U.S. Voter Registration Day!
DESCRIPTION:If you are not already registered to vote\, click the link below to register & be heard!  \nEvery Vote Counts!  \nhttps://www.ny.gov/services/register-vote
URL:https://local342update.com/event/u-s-voter-registration-day/
LOCATION:NY\, United States
END:VEVENT
BEGIN:VEVENT
DTSTART;TZID=America/New_York:20180924T090000
DTEND;TZID=America/New_York:20180924T193000
DTSTAMP:20260421T212808
CREATED:20180919T190922Z
LAST-MODIFIED:20180924T143000Z
UID:10161-1537779600-1537817400@local342update.com
SUMMARY:Member Monday! All offices open until 7:30 pm
DESCRIPTION:Member Monday @ the Union Hall \n \nCome down to your local union hall to talk with your union rep & meet fellow members! \nOffice Locations: \nStaten Island: 27 Brienna Court 10309 \nMineola: 166 E. Jericho Turnpike 11501 \nBohemia: 4561 Sunrise Highway 11716
URL:https://local342update.com/event/member-monday-all-offices-open-until-730-pm/
LOCATION:NY\, United States
END:VEVENT
BEGIN:VEVENT
DTSTART;TZID=America/New_York:20180922T080000
DTEND;TZID=America/New_York:20180922T170000
DTSTAMP:20260421T212808
CREATED:20180919T185752Z
LAST-MODIFIED:20180919T192249Z
UID:10158-1537603200-1537635600@local342update.com
SUMMARY:First Day of Fall
DESCRIPTION:As the cooler weather “falls” upon us\, checkout these handy fall clean up tips for your home! \nhttps://www.almanac.com/content/10-fall-cleanup-tips-better-spring-garden \n  \n 
URL:https://local342update.com/event/first-day-of-fall/
LOCATION:NY\, United States
END:VEVENT
BEGIN:VEVENT
DTSTART;TZID=America/New_York:20180524T170000
DTEND;TZID=America/New_York:20180524T193000
DTSTAMP:20260421T212808
CREATED:20180524T210227Z
LAST-MODIFIED:20180524T210353Z
UID:9891-1527181200-1527190200@local342update.com
SUMMARY:BBQ and Baseball
DESCRIPTION:What better way to kick off summer than with a BBQ AND Baseball ticket giveaway!! Come down to your local area office Monday\, June 4th for dinner & a chance to win tickets to both the New York Major League & Minor League teams! From hamburgers and hot dogs to peanuts and cracker jacks\, we will have it all! RSVP is encouraged\, doors open at 5 pm and the raffle drawing goes off at 7 pm sharp! (see raffle guidelines on the flyer) We look forward to kicking off the summer with Local 342 Members! #summertime #bbq #local342bbq #baseball #unionstrong #mondayfunday #takemeouttotheballgame #unionevents #summerevents call the local 342 activities dept. with any questions 855-342-8499 \n 
URL:https://local342update.com/event/9891/
LOCATION:All Area Offices\, NY\, United States
END:VEVENT
BEGIN:VEVENT
DTSTART;TZID=America/New_York:20180522T070000
DTEND;TZID=America/New_York:20180522T153000
DTSTAMP:20260421T212808
CREATED:20180517T131019Z
LAST-MODIFIED:20180517T131019Z
UID:9855-1526972400-1527003000@local342update.com
SUMMARY:Safety Class Training - Bohemia
DESCRIPTION:STOP & SHOP\nDawn Esposito \nKrystyn March \nJoseph McDonald \nChristopher Sessa \nWilliam Raia \nRandy Chervinski \nJames Wolffe \nPatrick Rogers \nCharles Barbaro \nWilliam Chase \nTimothy Quiery \nBrianna Krieger \nDonald Happle \nJoseph Licata \nWalenty Janowicz \nPaul Iovino \nRichard Kirkorian \nDenis Clark \nAlejando Otero \nSusan Thomas \nErin Mahoney \nMichael Cacchioli \nReggie Pacheco \nShopRite\nPaul Iovino \nRichard Kirkorian \nDenis Clark \nAlejando Otero \nSusan Thomas \nErin Mahoney \nMichael Cacchioli \nReggie Pacheco
URL:https://local342update.com/event/safety-class-training-bohemia-2/
LOCATION:Local 342 Bohemia Office\, 4561 Sunrise Highway\, Bohemia\, NY\, 11716\, United States
CATEGORIES:classes
END:VEVENT
BEGIN:VEVENT
DTSTART;TZID=America/New_York:20180521T070000
DTEND;TZID=America/New_York:20180521T153000
DTSTAMP:20260421T212808
CREATED:20180517T130937Z
LAST-MODIFIED:20180517T130937Z
UID:9854-1526886000-1526916600@local342update.com
SUMMARY:Safety Class Training - Mineola
DESCRIPTION:STOP & SHOP\nDularie Sanichar \nJohn Maleganos \nPeggyann McGee \nAttilio Lavino \nFrank Badami \nRonald Marracolla \nBrian Hoffman \nPaul Scalia \nThomas McCabe \nJoseph Siniscalchi \nLouis Greco \nPhilip Thompson \nLawrence Leone \nGregory Allen \nFrank Labella \nGlen Cachia \nVincednt Diemer \nIvan Salazar \nDanny Buscemi \nWendy Ward \nAnthony Mara \nThomas Casey \nGuillermo Pineda \nMichael Salazar \nJulio Portillo \nTheodore Danylczenko \nShopRite\nGregory Allen \nFrank Labella \nGlen Cachia \nVincednt Diemer \nIvan Salazar \nDanny Buscemi \nWendy Ward \nAnthony Mara \nThomas Casey \nGuillermo Pineda \nMichael Salazar \nJulio Portillo \nTheodore Danylczenko
URL:https://local342update.com/event/safety-class-training-mineola-2/
LOCATION:Local 342 Mineola Office\, 166 E. Jericho Tpke.\, Mineola\, NY\, 11501\, United States
CATEGORIES:classes
END:VEVENT
BEGIN:VEVENT
DTSTART;TZID=America/New_York:20171220T160000
DTEND;TZID=America/New_York:20171220T190000
DTSTAMP:20260421T212808
CREATED:20171102T150533Z
LAST-MODIFIED:20171102T150533Z
UID:8698-1513785600-1513796400@local342update.com
SUMMARY:Local 342 Holiday Toy Drive Delivery #2 - Brooklyn
DESCRIPTION:Join Local 342 Members\, friends\, staff and Santa Claus to deliver toys for the holidays to children and families in need. All Local 342 Members are welcome to volunteer to help make this a merry event for all.  \nWHERE: \nAngel Guardian (NEW LOCATION)\n241 37th Street Suite 6A\nBrooklyn\, NY 11232 \nTIME: 5-7pm (please be there by 4pm for setup) \nIf you would like to volunteer\, contact the Local 342 Activities Department to sign up.  Call (855) 342-8499 or email activities@ufcw342.org.
URL:https://local342update.com/event/local-342-holiday-toy-drive-delivery-2-brooklyn/
LOCATION:Angel Guardian\, 241 37th Street Suite 6A\, Brooklyn\, NY\, 11232\, United States
ATTACH;FMTTYPE=image/png:https://local342update.com/wp-content/uploads/2017/10/toy-drive-image-3.png
ORGANIZER;CN="Local 342 Activities":MAILTO:activities@ufcw342.org
END:VEVENT
BEGIN:VEVENT
DTSTART;TZID=America/New_York:20171214T090000
DTEND;TZID=America/New_York:20171214T113000
DTSTAMP:20260421T212808
CREATED:20171102T145725Z
LAST-MODIFIED:20171102T150518Z
UID:8696-1513242000-1513251000@local342update.com
SUMMARY:Local 342 Holiday Toy Drive Delivery #1 - Long Island
DESCRIPTION:Join Local 342 Members\, friends\, staff and Santa Claus to deliver toys for the holidays to children and families in need. All Local 342 Members are welcome to volunteer to help make this a merry event for all.  \nWHERE: \nFamily Service League Pre-School\n1450 New York Avenue\nHuntington Station\, NY 11746 \nTIME: 9am-11:30am \nIf you would like to volunteer\, contact the Local 342 Activities Department to sign up.  Call (855) 342-8499 or email activities@ufcw342.org. \n 
URL:https://local342update.com/event/local-342-holiday-toy-drive-delivery-1/
LOCATION:Family Service League Pre-School\, 1450 New York Avenue\, Huntington Station\, NY\, 11746\, United States
ATTACH;FMTTYPE=image/png:https://local342update.com/wp-content/uploads/2017/10/toy-drive-image-3.png
ORGANIZER;CN="Local 342 Activities":MAILTO:activities@ufcw342.org
END:VEVENT
BEGIN:VEVENT
DTSTART;TZID=America/New_York:20171211T090000
DTEND;TZID=America/New_York:20171211T193000
DTSTAMP:20260421T212808
CREATED:20171031T151741Z
LAST-MODIFIED:20171101T184259Z
UID:8692-1512982800-1513020600@local342update.com
SUMMARY:Toy Drive Donation Deadline
DESCRIPTION:Today is the deadline to donate new\, unwrapped toys for boys and girls of all ages for the Local 342 Annual Toy Drive. \nToys can be dropped off at a Local 342 Area Office during regular office hours or on a Monday Night until 7:30pm.   \nLocal 342 Members\, Family\, Friends and Staff will wrap and deliver the toys to two organizations that serve families and children in need:  \n\nThursday\, December 14 on Long Island (more details coming soon!)\nWednesday\, December 20 in Brooklyn (more details coming soon!) \n\nAll Members are encouraged to join us and assist with toy delivery – a wonderful event that makes many children happy. If you would like to volunteer\, contact the Local 342 Activities Department to sign up! \nContact the Local 342 Activities Department at (855) 342-8499 or activities@ufcw342.org.
URL:https://local342update.com/event/toy-drive-donation-deadline/
LOCATION:All Area Offices\, NY\, United States
ATTACH;FMTTYPE=image/png:https://local342update.com/wp-content/uploads/2017/10/toy-drive-image-1.png
ORGANIZER;CN="Local 342 Activities":MAILTO:activities@ufcw342.org
END:VEVENT
END:VCALENDAR